BEGIN:VCALENDAR
VERSION:2.0
PRODID:-//Unité Pastorale Jura - ECPv4.6.14.1//NONSGML v1.0//EN
CALSCALE:GREGORIAN
METHOD:PUBLISH
X-WR-CALNAME:Unité Pastorale Jura
X-ORIGINAL-URL:https://up-jura.ch
X-WR-CALDESC:Events for Unité Pastorale Jura
BEGIN:VEVENT
DTSTART;TZID=Europe/Paris:20251123T103000
DTEND;TZID=Europe/Paris:20251123T160000
DTSTAMP:20260421T081606
CREATED:20251114T091622Z
LAST-MODIFIED:20251114T091638Z
UID:11416-1763893800-1763913600@up-jura.ch
SUMMARY:Fête de St Clément
DESCRIPTION:Fête de St Clément à Collex-Bossy!\nAprès la messe de 10h30\, une raclette vous est proposée à la salle communale de Collex-Bossy. N’hésitez pas à vous inscrire auprès du secrétariat (versoix@cath-ge.ch ou 022 755 12 44 entre 8h00 et 11h30).  Les places sont limitées donc ne tardez pas! \nRaclette et café // adultes 20.-CHF et enfants 5.-CHF Les personnes qui le désirent peuvent apporter un dessert à partager entre les convives. \n
URL:https://up-jura.ch/index.php/event/fete-de-st-clement/
LOCATION:Route de Collex 197\, Collex\, 1239\, Suisse
END:VEVENT
END:VCALENDAR